BEGIN:VCALENDAR
VERSION:2.0
PRODID:-//Main Street Elizabethton - ECPv6.15.18//NONSGML v1.0//EN
CALSCALE:GREGORIAN
METHOD:PUBLISH
X-ORIGINAL-URL:https://mainstreetelizabethton.com
X-WR-CALDESC:Events for Main Street Elizabethton
REFRESH-INTERVAL;VALUE=DURATION:PT1H
X-Robots-Tag:noindex
X-PUBLISHED-TTL:PT1H
BEGIN:VTIMEZONE
TZID:UTC
BEGIN:STANDARD
TZOFFSETFROM:+0000
TZOFFSETTO:+0000
TZNAME:UTC
DTSTART:20250101T000000
END:STANDARD
END:VTIMEZONE
BEGIN:VEVENT
DTSTART;TZID=UTC:20260510T140000
DTEND;TZID=UTC:20260510T160000
DTSTAMP:20260425T100739
CREATED:20260408T001515Z
LAST-MODIFIED:20260408T001717Z
UID:10000620-1778421600-1778428800@mainstreetelizabethton.com
SUMMARY:Steel Magnolias
DESCRIPTION: Steel Magnolias \nFriday\, March 27 | 7:00 PM \nThe Bonnie Kate Theater presents Steel Magnolias\, a beloved film that celebrates friendship\, resilience\, and the strength found in community. Set in a small-town Louisiana beauty salon\, this heartfelt classic blends laughter and tears as it follows a group of women supporting one another through life’s joys and challenges. \nWith unforgettable performances and moments that are both deeply emotional and warmly humorous\, Steel Magnolias remains a favorite for audiences of all generations. Experience this iconic film on the big screen in the welcoming\, historic setting of the Bonnie Kate Theater. \n Tickets: $8 Location: Bonnie Kate Theater\, Elizabethton Tickets available online at https://bonniekatetheater.thundertix.com/or at the door. \nBring a friend\, bring tissues\, and enjoy a powerful night of classic cinema. 
URL:https://mainstreetelizabethton.com/event/2207/
LOCATION:Bonnie Kate Theater\, 115 South Sycamore Street\, Elizabethton\, TN\, 37643\, United States
ATTACH;FMTTYPE=image/jpeg:https://mainstreetelizabethton.com/wp-content/uploads/2026/04/Magnolias.jpg
ORGANIZER;CN="Bonnie Kate Theater":MAILTO:info@bonniekatetheater.org
END:VEVENT
END:VCALENDAR